BEGIN:VCALENDAR
VERSION:2.0
PRODID:-//Eventos Zenia Boulevard//NONSGML v1.0//EN
CALSCALE:GREGORIAN
BEGIN:VEVENT
DTSTART:20260502T000000
DTEND:20260502T000000
SUMMARY:Especial Día de la Madre en Burgos | Taller de Flores Preservadas
DESCRIPTION:2 de mayo a las 18:30h en Platea Xperience
LOCATION:Zenia Boulevard
URL:https://zeniaboulevard.es/eventos
END:VEVENT
END:VCALENDAR
