BEGIN:VCALENDAR
VERSION:2.0
PRODID:-//Eventos Zenia Boulevard//NONSGML v1.0//EN
CALSCALE:GREGORIAN
BEGIN:VEVENT
DTSTART:19700101T000000
DTEND:19700101T000000
SUMMARY:Agenda de Mayo en Camino de la Plata: Talleres creativos y experiencias únicas en Burgos
DESCRIPTION:Todo el mes de mayo en Platea Xperience
LOCATION:Zenia Boulevard
URL:https://zeniaboulevard.es/eventos
END:VEVENT
END:VCALENDAR
